BEGIN:VCALENDAR
PRODID:-//vBulletin 6//EN
VERSION:2.0
CALSCALE:GREGORIAN
BEGIN:VEVENT
UID:88fbd479-4fe4-4021-9f65-fa7fcb512d26
DTSTAMP:20260423T065145Z
SUMMARY:X1 Game Night: SWBFII
DESCRIPTION:Weekly practice/game nights on SWBFII on X1.\n\nWe'll meet up i
 n party at 9pm and depending on number of people decide what modes to play
 .
URL:https://www.darksidealliance.com/node/257046
DTSTART:20180504T010000Z
DTEND:20180504T020001Z
END:VEVENT
END:VCALENDAR
