BEGIN:VCALENDAR
PRODID:-//vBulletin 6//EN
VERSION:2.0
CALSCALE:GREGORIAN
BEGIN:VEVENT
UID:9930d76a-c80a-450d-8bc1-b26bca79e37b
DTSTAMP:20260423T035007Z
SUMMARY:May the 4th be with you - SWBFII Game Day
DESCRIPTION:Come join us for "May the 4th be with you!" DSA SWBFII Game Day
 .\n\nRegardless of whatever system you play on\, I encourage all DSA to pl
 an some time to meet up and jump on some Battlefront II to celebrate Star 
 Wars day on May 4th\, 2019.\nI expect most will only be able to get on in 
 the evening/night\, but feel free to plan and meetup throughout the day an
 d game with DSA brethren you might not have gamed with in awhile. If anyon
 e jumps in game\, be sure to send invites to all DSA on your friends lists
  to remind them\, and get together for some good old fashion Rebel/Jedi ki
 lling fun.\n\nFor Xbox\, I plan to be on in the evening\, but will try to 
 be on during the day if RL responsibilities allow it. I look forward to se
 eing a lot of you on and to catch up and have some good times.\nEven if yo
 u are new to DSA\, Register on the website\, join this group\, make a post
  to introduce yourself\, and we'll be sure to send you an invite to join u
 s. If squad fills up\, we may break into smaller squads to try and accommo
 date.\n\nBe sure to take some recordings or your greatest/funniest moments
  and share them on this thread afterwards.
URL:https://www.darksidealliance.com/node/257709
DTSTART;VALUE=DATE:20190503
END:VEVENT
END:VCALENDAR
