BEGIN:VCALENDAR
PRODID:-//vBulletin 6//EN
VERSION:2.0
CALSCALE:GREGORIAN
BEGIN:VEVENT
UID:b516e79c-fb69-4f25-a9b4-f73ed3b3e087
DTSTAMP:20260423T125550Z
SUMMARY:COD Practice: Thurs 12/5/2019
DESCRIPTION:Will be updated closer to event....
URL:https://www.darksidealliance.com/node/258996
DTSTART:20191206T010000Z
DTEND:20191206T080001Z
END:VEVENT
END:VCALENDAR
