BEGIN:VCALENDAR
PRODID:-//vBulletin 6//EN
VERSION:2.0
CALSCALE:GREGORIAN
BEGIN:VEVENT
UID:d2f0b8cb-de11-4b3a-8f00-cfb29b2fd4b4
DTSTAMP:20260423T065145Z
SUMMARY:COD Practice: 11/27/19
DESCRIPTION:We are moving practice to Wednesday this week due to Thursday b
 eing thanksgiving. We will convene at 9PM Eastern Time. Do remember the Ch
 ain of Command when in practice when senior rank is addressing the lobby. 
 We will not do anything to crazy this week either\, just more of us playin
 g together and getting used to working together. Please advise if you can 
 make it or not.\n\n- GM Reav
URL:https://www.darksidealliance.com/node/259026
DTSTART:20191128T010000Z
DTEND:20191128T035901Z
LOCATION:Deathstar
END:VEVENT
END:VCALENDAR
