BEGIN:VCALENDAR
PRODID:-//vBulletin 6//EN
VERSION:2.0
CALSCALE:GREGORIAN
BEGIN:VEVENT
UID:d8c5afc5-d2e6-4f53-9205-001007f1c034
DTSTAMP:20260423T065149Z
SUMMARY:COD Practice: 12/15/19 10PM EST
DESCRIPTION:We will pick up this weeks practice this coming Sunday. We will
  be pushing the start time to 10 PM EST but may be on earlier. I will keep
  you guys updated here\, for those that can attend please comment below an
 d advise.
URL:https://www.darksidealliance.com/node/259120
DTSTART;VALUE=DATE:20191215
LOCATION:Tatooine
END:VEVENT
END:VCALENDAR
