BEGIN:VCALENDAR
PRODID:-//vBulletin 6//EN
VERSION:2.0
CALSCALE:GREGORIAN
BEGIN:VEVENT
UID:dd3772cf-757f-48bb-aa27-d0c5f63da815
DTSTAMP:20260423T205042Z
SUMMARY:COD Practice: 12/17/19 Tuesday 9PM EST
DESCRIPTION:We will reconvene tomorrow night at 9EST. Please advise if you 
 can make it.
URL:https://www.darksidealliance.com/node/259146
DTSTART;VALUE=DATE:20191217
END:VEVENT
END:VCALENDAR
