BEGIN:VCALENDAR
PRODID:-//vBulletin 6//EN
VERSION:2.0
CALSCALE:GREGORIAN
BEGIN:VEVENT
UID:bdf2a8b2-d936-40b9-90fd-3b04ccebc936
DTSTAMP:20260424T015341Z
SUMMARY:COD Practice: 12/20/19 10PM EST
DESCRIPTION:We will pick up tomorrow night at 10PM EST. Tomorrow we will st
 art out in search\, it will be mostly a S&D kind of night. If we get enoug
 h people we will back into a private lobby and I will be splitting you guy
 s up into teams for some head on head competition and testing your teamwor
 k. Please advise.
URL:https://www.darksidealliance.com/node/259181
DTSTART;VALUE=DATE:20191220
LOCATION:Tatooine
END:VEVENT
END:VCALENDAR
