BEGIN:VCALENDAR
PRODID:-//vBulletin 6//EN
VERSION:2.0
CALSCALE:GREGORIAN
BEGIN:VEVENT
UID:ce13a5dc-d6f8-46d0-96fd-4d20e8dca349
DTSTAMP:20260423T083940Z
SUMMARY:COD Practice: Friday 01/10/20 S&amp\;D
DESCRIPTION:Another week of practice\, again remember we have switched to 2
 4hr times on these practices to make it easier for everyone in different t
 ime zones. Friday will be a search night only. Please respond if you can m
 ake it.
URL:https://www.darksidealliance.com/node/259245
DTSTART;VALUE=DATE:20200115
LOCATION:Ratix's Basement
END:VEVENT
END:VCALENDAR
