BEGIN:VCALENDAR
PRODID:-//vBulletin 6//EN
VERSION:2.0
CALSCALE:GREGORIAN
BEGIN:VEVENT
UID:0d6a22a6-8262-4f3a-aec1-bccf884f81f7
DTSTAMP:20260423T205041Z
SUMMARY:COD Practice: Saturday 01/11/20
DESCRIPTION:Saturday is our second week of Domination practice into the new
  year\, we didnt have a very big turn out last Saturday so lets try to do 
 better this week. Please advise if you will be available.
URL:https://www.darksidealliance.com/node/259246
DTSTART;VALUE=DATE:20200111
LOCATION:Ratix's Bathroom
END:VEVENT
END:VCALENDAR
