BEGIN:VCALENDAR
PRODID:-//vBulletin 6//EN
VERSION:2.0
CALSCALE:GREGORIAN
BEGIN:VEVENT
UID:1f3a3348-4c0f-4df9-9ead-a48828236582
DTSTAMP:20260423T065142Z
SUMMARY:Friday Search and Destroy Gamenight
DESCRIPTION:Welcome to Search and Destroy gamenight/practice Hosted by DSA 
 Dino at 9pm CST time. Cant wait to see everyone there.
URL:https://www.darksidealliance.com/node/259299
DTSTART;VALUE=DATE:20200117
END:VEVENT
END:VCALENDAR
