BEGIN:VCALENDAR
PRODID:-//vBulletin 6//EN
VERSION:2.0
CALSCALE:GREGORIAN
BEGIN:VEVENT
UID:441d7a8c-b94c-4685-93ff-74b168a6df12
DTSTAMP:20260423T065149Z
SUMMARY:Saturday Domination Gamenight/Practice
DESCRIPTION:Welcome to Saturday Domination Gamenight/Practice Hosted by you
 rs truly DSA MESSY @8pm EST time please come out and enjoy a awesome event
 .
URL:https://www.darksidealliance.com/node/259301
DTSTART;VALUE=DATE:20200118
END:VEVENT
END:VCALENDAR
