BEGIN:VCALENDAR
PRODID:-//vBulletin 6//EN
VERSION:2.0
CALSCALE:GREGORIAN
BEGIN:VEVENT
UID:7b49b0df-ba15-482e-90f4-61764460de78
DTSTAMP:20260423T020851Z
SUMMARY:Testing  Ignore
DESCRIPTION:Just testing\, ignore.......
URL:https://www.darksidealliance.com/node/259643
DTSTART;VALUE=DATE:20200225
LOCATION:DeathStar
END:VEVENT
END:VCALENDAR
