BEGIN:VCALENDAR
PRODID:-//vBulletin 6//EN
VERSION:2.0
CALSCALE:GREGORIAN
BEGIN:VEVENT
UID:8ef71d02-279e-4a8c-b666-fd41b79e4a91
DTSTAMP:20260423T065143Z
SUMMARY:Wednesday Gamenight/Recruiting
DESCRIPTION:What's good tomorrow will be having a little gamenight which me
 ans you choose game modes and maps and then after that is anyone wants to 
 join up do a little recruiting and see what's out there can't wait to see 
 yall tomorrow night
URL:https://www.darksidealliance.com/node/259702
DTSTART;VALUE=DATE:20200304
END:VEVENT
END:VCALENDAR
