BEGIN:VCALENDAR
PRODID:-//vBulletin 6//EN
VERSION:2.0
CALSCALE:GREGORIAN
BEGIN:VEVENT
UID:467f6e79-d7b0-457d-a36b-a176ae5105b4
DTSTAMP:20260423T021726Z
SUMMARY:Starwars Saturday night UK game night hosted by barmy
DESCRIPTION:Saturday 14th March I will be hosting my first game night for t
 he DSA I will start out with co-op and move to starfighter assault dependi
 ng if enough people are down to play it\, it will start around 7pm GMT\, 3
 pm EST And 12pm PST\ni look forward to seeing people there and playing wit
 h you all\nMay the sith live on forever
URL:https://www.darksidealliance.com/node/259770
DTSTART:20200315T000000Z
DTEND:20200315T030001Z
LOCATION:Uk
END:VEVENT
END:VCALENDAR
