BEGIN:VCALENDAR
PRODID:-//vBulletin 6//EN
VERSION:2.0
CALSCALE:GREGORIAN
BEGIN:VEVENT
UID:46b71f16-ae84-4479-88cd-5080ab704fce
DTSTAMP:20260423T065143Z
SUMMARY:Game night Monday 16th 9pm
DESCRIPTION:Let's do a lil of everything y'all an have fun
URL:https://www.darksidealliance.com/node/259810
DTSTART;VALUE=DATE:20200315
END:VEVENT
END:VCALENDAR
