BEGIN:VCALENDAR
PRODID:-//vBulletin 6//EN
VERSION:2.0
CALSCALE:GREGORIAN
BEGIN:VEVENT
UID:d9c0e219-195e-4a0c-82fc-4e6988c7b6b5
DTSTAMP:20260423T065147Z
SUMMARY:DSA Dino MW game night
DESCRIPTION:Are you tired of being pushed and pulled? Weighed down by that 
 ball and chain? Well if so head on over to game night Friday 3/20 at 9pm C
 ST on Modern Warfare where you can ditch that ball and chain and have some
  fun. I hope to see you all there.
URL:https://www.darksidealliance.com/node/259821
DTSTART;VALUE=DATE:20200320
DTEND;VALUE=DATE:20200322
LOCATION:Modern Warfare
END:VEVENT
END:VCALENDAR
