BEGIN:VCALENDAR
PRODID:-//vBulletin 6//EN
VERSION:2.0
CALSCALE:GREGORIAN
BEGIN:VEVENT
UID:1c3b343e-2ea0-4a5c-9b7b-b9ec1a6589de
DTSTAMP:20260423T065146Z
SUMMARY:Game night at 8est with messy
DESCRIPTION:Game night with messy is tonight guys \, id love to see a busy 
 thursday sesh so tell ya mates ya enemies\, family whoever and let keep th
 e dsa ball rolling . starting at 8est tonight \;) see you there DSA MESSY 
 x
URL:https://www.darksidealliance.com/node/259830
DTSTART;VALUE=DATE:20200319
LOCATION:Messys house \;)
END:VEVENT
END:VCALENDAR
