BEGIN:VCALENDAR
PRODID:-//vBulletin 6//EN
VERSION:2.0
CALSCALE:GREGORIAN
BEGIN:VEVENT
UID:a953e742-3873-4632-a4b0-10b35f6c655b
DTSTAMP:20260423T021725Z
SUMMARY:Game Night Friday the 27th
DESCRIPTION:Hey everyone\, I'm hosting a game night Friday the 27th at 3pm 
 Eastern. Come and join me in my quest to kill the Jedi.
URL:https://www.darksidealliance.com/node/259847
DTSTART:20200327T200000Z
DTEND:20200327T230001Z
END:VEVENT
END:VCALENDAR
