BEGIN:VCALENDAR
PRODID:-//vBulletin 6//EN
VERSION:2.0
CALSCALE:GREGORIAN
BEGIN:VEVENT
UID:38d9e023-ac4d-4fb3-9b8f-578081c4b003
DTSTAMP:20260423T065144Z
SUMMARY:DSA Dino MW game night
DESCRIPTION:Alright everyone it's that time of the week again. As you all k
 now fridays game nights are usually S&D but here lately we've been mixing 
 it up. Dont be afraid to come on out and have a blast and help us fight CO
 VID-19 and practice social distancing lol. Game night will start on Friday
  March 27th at 9:30pm CST. I hope to see you all there.
URL:https://www.darksidealliance.com/node/259849
DTSTART;VALUE=DATE:20200327
LOCATION:Modern Warfare
END:VEVENT
END:VCALENDAR
