BEGIN:VCALENDAR
PRODID:-//vBulletin 6//EN
VERSION:2.0
CALSCALE:GREGORIAN
BEGIN:VEVENT
UID:aea437b6-c719-49ad-b33d-e61feaca2b8e
DTSTAMP:20260423T065138Z
SUMMARY:Recruiting night
DESCRIPTION:Let's go out there an bring ppl into the dark side
URL:https://www.darksidealliance.com/node/259850
DTSTART;VALUE=DATE:20200323
END:VEVENT
END:VCALENDAR
