BEGIN:VCALENDAR
PRODID:-//vBulletin 6//EN
VERSION:2.0
CALSCALE:GREGORIAN
BEGIN:VEVENT
UID:d3b3e8f0-10f0-40ed-b2dd-065b8cf385ee
DTSTAMP:20260423T065144Z
SUMMARY:Gunfight Thursdays 8est
DESCRIPTION:Soo \, changing things for the better. We have decided that som
 ethings need their own slot \, that said weve had a lot of fun playing aro
 und in gunfight and i have decided to make my game nights all gunfight pla
 ying against the team DSA. Expect banter\, tantrums\, laughter and tears t
 his is Messy's Gunfight Thursday \;)
URL:https://www.darksidealliance.com/node/259854
DTSTART;VALUE=DATE:20200326
DTEND;VALUE=DATE:20200328
LOCATION:Messys house
END:VEVENT
END:VCALENDAR
