BEGIN:VCALENDAR
PRODID:-//vBulletin 6//EN
VERSION:2.0
CALSCALE:GREGORIAN
BEGIN:VEVENT
UID:cf0580b0-26bd-47e3-a3b4-f71f420b4bb3
DTSTAMP:20260423T065146Z
SUMMARY:Wednesday night game night 10pm EST hosted by Cpt. J and DSA Royalt
 y
DESCRIPTION:Wednesday night at 10pm EST\, Royalty and myself will be hostin
 g some 2v2 or 1v1 brackets depending on how many if y'all show up. The 1v1
 's will be bolt action rifles only as it will be quickscope battles. 2v2's
  are still being mulled about as me and Royalty haven't had much time to f
 igure it out but undoubtedly we will figure it out on the fly. Even if you
  don't like quickscoping\, you can still come and watch Royalty get mad as
  I give him a beating! Hope to see y'all there!
URL:https://www.darksidealliance.com/node/259855
DTSTART:20200326T030000Z
DTEND:20200326T060001Z
END:VEVENT
END:VCALENDAR
