BEGIN:VCALENDAR
PRODID:-//vBulletin 6//EN
VERSION:2.0
CALSCALE:GREGORIAN
BEGIN:VEVENT
UID:d038a0d0-34f3-42c2-9972-6436b8958f6c
DTSTAMP:20260423T065142Z
SUMMARY:Messys Gunfight Thursdays 8 est onwards
DESCRIPTION:Absolute chaos in motion a great little night of gunfight with 
 the team as ever its will start @8 est and finish late \, invite your mate
 s and lets smash things to bits #DSA
URL:https://www.darksidealliance.com/node/259869
DTSTART;VALUE=DATE:20200402
DTEND;VALUE=DATE:20200404
LOCATION:Cod modern warfare
END:VEVENT
END:VCALENDAR
