BEGIN:VCALENDAR
PRODID:-//vBulletin 6//EN
VERSION:2.0
CALSCALE:GREGORIAN
BEGIN:VEVENT
UID:625dc42a-ee9b-4aff-adb8-9a44c63632b8
DTSTAMP:20260423T065144Z
SUMMARY:DSA Dino MW game night
DESCRIPTION:Alright it's that time of the week again Friday night game nigh
 t were gonna kick it with some TDM/S&D. All are welcome to come out and ha
 ve fun I hope to see you all there. Starts at 9:30 CST on Friday April 3rd
 .
URL:https://www.darksidealliance.com/node/259870
DTSTART;VALUE=DATE:20200403
LOCATION:Call Of Duty Modern Warfare
END:VEVENT
END:VCALENDAR
