BEGIN:VCALENDAR
PRODID:-//vBulletin 6//EN
VERSION:2.0
CALSCALE:GREGORIAN
BEGIN:VEVENT
UID:ca86efa8-b06c-4b62-ae9d-f63e5659c283
DTSTAMP:20260423T034952Z
SUMMARY:DSA Dino MW game night/quarantine gang hang
DESCRIPTION:Alright everyone I know it's late in the week and we are all de
 aling with this COVID-19 thing doing our part in the social distancing..lo
 l.. But it's time to break that social distancing for one night and one ni
 ght only. This Friday April 10th will be an all together Call Of Duty gang
  hang. It will start at 9:30 CST and go until everyone leaves. I hope to s
 ee you all there as this will be the only game night this week for Modern 
 Warfare. Stay safe and stay at home if at all possible.
URL:https://www.darksidealliance.com/node/259896
DTSTART;VALUE=DATE:20200410
LOCATION:Modern Warfare
END:VEVENT
END:VCALENDAR
