BEGIN:VCALENDAR
PRODID:-//vBulletin 6//EN
VERSION:2.0
CALSCALE:GREGORIAN
BEGIN:VEVENT
UID:1a9689d2-3fb7-4fff-ad26-a9c770a62423
DTSTAMP:20260423T065146Z
SUMMARY:DSA Dino MW S&amp\;D night
DESCRIPTION:Alright everyone it's a new week and I know it's late in the we
 ek. But this Friday will be a hardcore search and destroy night. I'm looki
 ng to build our team to do game battles. This will be a serious game night
  if you wish to come out and compete for a spot or would like a spot on th
 e roster/team this will be the place to do so. Again it will be this Frida
 y the 17th at 9:30pm CST. I hope to see you all there.
URL:https://www.darksidealliance.com/node/259963
DTSTART;VALUE=DATE:20200417
LOCATION:Call Of Duty Modern Warfare
END:VEVENT
END:VCALENDAR
