BEGIN:VCALENDAR
PRODID:-//vBulletin 6//EN
VERSION:2.0
CALSCALE:GREGORIAN
BEGIN:VEVENT
UID:1a188e17-b15b-4f95-a47f-2251ae8ef9bf
DTSTAMP:20260423T034956Z
SUMMARY:Attack on all randos 8 EST
DESCRIPTION:Attack on the rando's DSA style from 8est till late with messy 
 playing all styles  mixing life up
URL:https://www.darksidealliance.com/node/259965
DTSTART;VALUE=DATE:20200416
DTEND;VALUE=DATE:20200418
LOCATION:Messys
END:VEVENT
END:VCALENDAR
