BEGIN:VCALENDAR
PRODID:-//vBulletin 6//EN
VERSION:2.0
CALSCALE:GREGORIAN
BEGIN:VEVENT
UID:66ff4062-af24-4d76-8fda-1e683cd0852a
DTSTAMP:20260423T035046Z
SUMMARY:Chahtas back game night! April 22nd
DESCRIPTION:aloha from the dark side. Hump day game night is back for anoth
 er round\, let's get together in some private lobbies for shenanigans.  Re
 member Hail Sith!  \n5pm PST!!
URL:https://www.darksidealliance.com/node/260010
DTSTART;VALUE=DATE:20200422
LOCATION:Maui Hawaii
END:VEVENT
END:VCALENDAR
