BEGIN:VCALENDAR
PRODID:-//vBulletin 6//EN
VERSION:2.0
CALSCALE:GREGORIAN
BEGIN:VEVENT
UID:3b09ba42-9f33-4592-aceb-0b3c9bcb4b4e
DTSTAMP:20260423T065148Z
SUMMARY:DSA Dino MW S&amp\;D night
DESCRIPTION:Alright it's that time again for another friday night S&D night
 . This is for the competitive GB team we had a solid showing last week let
 's have the same turn out this week. If we can build a team we can start d
 oing GBs and getting DSA noticed. Start time is 9:30pm CST on friday pleas
 e show up prepared to go all out.
URL:https://www.darksidealliance.com/node/260014
DTSTART;VALUE=DATE:20200424
END:VEVENT
END:VCALENDAR
