BEGIN:VCALENDAR
PRODID:-//vBulletin 6//EN
VERSION:2.0
CALSCALE:GREGORIAN
BEGIN:VEVENT
UID:a0270c6c-e074-4ec2-b644-5a8a09b83398
DTSTAMP:20260423T065147Z
SUMMARY:Jester's Game Night
DESCRIPTION:The powers that be have decided to let me have my first game ni
 ght. Due to popular demand and the back and forth between players\, I've d
 ecided a 2v2 Gunfight tournament is fitting! So grab a partner and join up
  with me saturday at 9:30pm EST to see which team will reign supreme!
URL:https://www.darksidealliance.com/node/260016
DTSTART:20200426T023000Z
DTEND:20200426T050101Z
LOCATION:Ohio
END:VEVENT
END:VCALENDAR
