BEGIN:VCALENDAR
PRODID:-//vBulletin 6//EN
VERSION:2.0
CALSCALE:GREGORIAN
BEGIN:VEVENT
UID:4cf30d11-b60e-4fb3-9d99-cd1ae89f6f4d
DTSTAMP:20260423T034953Z
SUMMARY:Tuesday 28th 9pm central
DESCRIPTION:It's that time again from ur very on hackerman to host a game n
 ight for mw. We will do tdm\, dom an SnD phardcore an any other game modes
  y'all wanna do. If we have less than 6 we can do war zone lol which I'm s
 ure we won't have less than 6
URL:https://www.darksidealliance.com/node/260042
DTSTART;VALUE=DATE:20200428
END:VEVENT
END:VCALENDAR
