BEGIN:VCALENDAR
PRODID:-//vBulletin 6//EN
VERSION:2.0
CALSCALE:GREGORIAN
BEGIN:VEVENT
UID:497a1e80-9854-43c5-85fa-3cc15d9ef473
DTSTAMP:20260423T065144Z
SUMMARY:Gunfight Thursday with messy at 8est
DESCRIPTION:Easy now DSA massive i hope you're all well its that time again
  just a couple of sleeps and the banter the heartache the pain and laughte
 r come out for gunfight Thursdays i hope we keep up the busy nights attend
 ance until Thursday stay safe \, Messy 8est till late
URL:https://www.darksidealliance.com/node/260050
DTSTART;VALUE=DATE:20200430
END:VEVENT
END:VCALENDAR
