BEGIN:VCALENDAR
PRODID:-//vBulletin 6//EN
VERSION:2.0
CALSCALE:GREGORIAN
BEGIN:VEVENT
UID:3aa0b9de-4e37-4937-8a14-1be7eab7080b
DTSTAMP:20260423T065142Z
SUMMARY:DSA Dino MW S&amp\;D night
DESCRIPTION:So I completely lost track of what day of the week it is. With 
 that being said this Friday's S&D practice night is still a go we will ass
 emble at 9:30pm CST Friday May 1st. We had an amazing turnout last week. I
  hope to see you all there.
URL:https://www.darksidealliance.com/node/260051
DTSTART;VALUE=DATE:20200501
END:VEVENT
END:VCALENDAR
