BEGIN:VCALENDAR
PRODID:-//vBulletin 6//EN
VERSION:2.0
CALSCALE:GREGORIAN
BEGIN:VEVENT
UID:1360434f-8206-4b9a-87d5-34d1e086ab7f
DTSTAMP:20260423T034956Z
SUMMARY:DSA Dino MW S&amp\;D night (Practice)
DESCRIPTION:Hardcore S&D practice\n Friday May 8th 9:30CST\n Call Of Duty: 
 Modern Warfare.\n \nGood evening family. It's that time of week again for 
 or HC S&D practice this one will be with the implement of GB rules I'll ha
 ve DSA Royalty post up the GB class rules on the discord. I expect these t
 o be followed by everyone playing/taking part there are no exceptions if y
 ou are unsure be sure to ask and we can get you settled in. Since we are a
 dding the rules in this will help with the selection of Team 1 and Team 2 
 so always show up and go your hardest.\n\nWE ARE ALWAYS WATCHING!
URL:https://www.darksidealliance.com/node/260079
DTSTART;VALUE=DATE:20200508
LOCATION:Your room
END:VEVENT
END:VCALENDAR
