BEGIN:VCALENDAR
PRODID:-//vBulletin 6//EN
VERSION:2.0
CALSCALE:GREGORIAN
BEGIN:VEVENT
UID:4670bc23-6bbd-4c3d-b66a-7b3e12ff29a0
DTSTAMP:20260423T034950Z
SUMMARY:Vet Practice Night
DESCRIPTION:Folks\, this will be a practice night to determine game modes a
 nd maps for our upcoming event with the new guys. Please do join this Satu
 rday\, 9 May from 9 to 10ish PM EST.
URL:https://www.darksidealliance.com/node/260087
DTSTART:20200509T210000Z
DTEND:20200509T220001Z
END:VEVENT
END:VCALENDAR
