BEGIN:VCALENDAR
PRODID:-//vBulletin 6//EN
VERSION:2.0
CALSCALE:GREGORIAN
BEGIN:VEVENT
UID:cfc80f7b-1e06-4447-a79f-1ec9d8591ded
DTSTAMP:20260423T065148Z
SUMMARY:Gunfight Thursday 8est till late
DESCRIPTION:Thursday gunfight sesh\nAs the madness continues we have a grow
 ing feel so lets smash the hell out of it and be all things DSA\;) #Messy
URL:https://www.darksidealliance.com/node/260089
DTSTART;VALUE=DATE:20200507
LOCATION:Messys yard
END:VEVENT
END:VCALENDAR
