BEGIN:VCALENDAR
PRODID:-//vBulletin 6//EN
VERSION:2.0
CALSCALE:GREGORIAN
BEGIN:VEVENT
UID:bbcca5ff-ef33-4d11-80b5-ce67be811c21
DTSTAMP:20260423T065147Z
SUMMARY:HC S&amp\;D CDL practice night.
DESCRIPTION:Alright everyone the wife and I just had our baby. But I should
  still be able to make practice. If not DSA Royalty and DSA SoulReap will 
 run it like I was there. I want both teams to meet up and have a chat befo
 re we begin. CDL practice will start at 9:30 CST on May 15th.
URL:https://www.darksidealliance.com/node/260116
DTSTART;VALUE=DATE:20200512
END:VEVENT
END:VCALENDAR
