BEGIN:VCALENDAR
PRODID:-//vBulletin 6//EN
VERSION:2.0
CALSCALE:GREGORIAN
BEGIN:VEVENT
UID:87cf95d2-32e3-4850-a6e3-7a89ad4adcdb
DTSTAMP:20260423T065147Z
SUMMARY:Vet/New Guys Game Night
DESCRIPTION:
URL:https://www.darksidealliance.com/node/260131
DTSTART:20200523T213000Z
DTEND:20200523T233001Z
END:VEVENT
END:VCALENDAR
