BEGIN:VCALENDAR
PRODID:-//vBulletin 6//EN
VERSION:2.0
CALSCALE:GREGORIAN
BEGIN:VEVENT
UID:75c276c4-3b76-4c95-b612-9c31d8edbfab
DTSTAMP:20260423T034950Z
SUMMARY:CDL Training teams 1&amp\;2
DESCRIPTION:Alright everyone it's the middle of the week lifes been crazy b
 ut the show must go on. This weeks practice will be held Friday May 22nd a
 t 9:30pm CST. We are currently short 3 members and we are currently workin
 g towards replacing them. I hope to see you all there for practice. \n\n\n
 \nNothing but blood!
URL:https://www.darksidealliance.com/node/260140
DTSTART;VALUE=DATE:20200522
END:VEVENT
END:VCALENDAR
