BEGIN:VCALENDAR
PRODID:-//vBulletin 6//EN
VERSION:2.0
CALSCALE:GREGORIAN
BEGIN:VEVENT
UID:e42c81e2-9571-4586-b5b0-a25ed275a26c
DTSTAMP:20260423T034955Z
SUMMARY:Game night at 8est with messy
DESCRIPTION:More modes means more madness mate  gunfight tdm search and one
  in the chamber\, be ready
URL:https://www.darksidealliance.com/node/260143
DTSTART;VALUE=DATE:20200521
LOCATION:Messys house \;)
END:VEVENT
END:VCALENDAR
