BEGIN:VCALENDAR
PRODID:-//vBulletin 6//EN
VERSION:2.0
CALSCALE:GREGORIAN
BEGIN:VEVENT
UID:572f6576-2405-4f62-acb0-7b5b0c86bfe0
DTSTAMP:20260423T034950Z
SUMMARY:Gunfight Thursday 8est till late
DESCRIPTION:Gunfight Thursday is back no changing no looking back \, we hav
 e plenty of new guys and girls on DSA so lets makes sure our family member
 s are involved and invited big love \, messy 8 till late
URL:https://www.darksidealliance.com/node/260163
DTSTART;VALUE=DATE:20200528
LOCATION:Messys
END:VEVENT
END:VCALENDAR
