BEGIN:VCALENDAR
PRODID:-//vBulletin 6//EN
VERSION:2.0
CALSCALE:GREGORIAN
BEGIN:VEVENT
UID:9f299022-c8ca-4c40-8223-6b2d179bb037
DTSTAMP:20260423T034950Z
SUMMARY:Messys game night 8 est till late
DESCRIPTION:Game night is here once more \, I feel tonight we need to up th
 e laugh factor bringing more banter after a shitty week its much needed we
  will be playing gun fight \, one in the chamber search and towards the en
 d when the numbers drop hit up public matches aswel I hope you all make it
  if you can other than that see you on the dark side #DSA much love Messy
URL:https://www.darksidealliance.com/node/260187
DTSTART;VALUE=DATE:20200604
END:VEVENT
END:VCALENDAR
