BEGIN:VCALENDAR
PRODID:-//vBulletin 6//EN
VERSION:2.0
CALSCALE:GREGORIAN
BEGIN:VEVENT
UID:caf5ca6d-15fd-4df5-9d3e-29ce292254b1
DTSTAMP:20260423T034955Z
SUMMARY:S&amp\;D CDL practice night.
DESCRIPTION:Hey everyone I know it's been a while but it's time to get back
  to it. This friday we will be running CDL we will be running with the fir
 st 5 people to get on and join up. If we get more than 5 we will split up 
 and run CDL regardless we will be running CDL. Look for this to start arou
 nd 10pm CST. Hope to see you all there.
URL:https://www.darksidealliance.com/node/260199
DTSTART;VALUE=DATE:20200612
END:VEVENT
END:VCALENDAR
