BEGIN:VCALENDAR
PRODID:-//vBulletin 6//EN
VERSION:2.0
CALSCALE:GREGORIAN
BEGIN:VEVENT
UID:8c16ae9d-3109-41fa-9d48-de558305b9f9
DTSTAMP:20260423T035008Z
SUMMARY:Messys game night
DESCRIPTION:Game night alert ill be running it slightly earlier starting at
  6est due to an early mma 121 session... We will be playing a mix of games
  starting with gunfight working to one in the chamber\,snipers only sticks
  and stone and any other fun way to kill each other we can think of \;) #D
 SA
URL:https://www.darksidealliance.com/node/260207
DTSTART;VALUE=DATE:20200611
LOCATION:Messys house
END:VEVENT
END:VCALENDAR
