BEGIN:VCALENDAR
PRODID:-//vBulletin 6//EN
VERSION:2.0
CALSCALE:GREGORIAN
BEGIN:VEVENT
UID:82e2e7ab-d317-4d7a-b157-b6ead93c93ae
DTSTAMP:20260423T035006Z
SUMMARY:Mess fest game night
DESCRIPTION:Game night is almost upon us once again game modes will be as f
 ollows \, gunfight \, one in the chamber and depending on how many can mak
 e it a few matches in public games \;) #DSA
URL:https://www.darksidealliance.com/node/260263
DTSTART;VALUE=DATE:20200618
LOCATION:Messys pad
END:VEVENT
END:VCALENDAR
