BEGIN:VCALENDAR
PRODID:-//vBulletin 6//EN
VERSION:2.0
CALSCALE:GREGORIAN
BEGIN:VEVENT
UID:abf59fb8-c425-462e-9b21-57284b7930f9
DTSTAMP:20260423T034955Z
SUMMARY:Need 4.
DESCRIPTION:This weeks practice will be moved to Warface. It's a new game w
 ith very few pro teams but still based around our normal game mode. This w
 ill pretty much be a testing team to see how the progress is going on the 
 game. If it plays out right the CoD CDL team will also be doing competitiv
 e gaming over there. I say we'll get together Friday night as usual at 10p
 m CST. And go from there.
URL:https://www.darksidealliance.com/node/260271
DTSTART;VALUE=DATE:20200619
END:VEVENT
END:VCALENDAR
