BEGIN:VCALENDAR
PRODID:-//vBulletin 6//EN
VERSION:2.0
CALSCALE:GREGORIAN
BEGIN:VEVENT
UID:7feaf7e9-8210-4bea-a9a4-06cf84ea26e5
DTSTAMP:20260423T035006Z
SUMMARY:Drunkfight Thursday haha ( GunFight )
DESCRIPTION:Sooooo today is game night and i am feeling it trust me \, toda
 y ive got energy drinks ive got beer ive got the force of yoda and badass 
 bants of Darth do not cross ne hahaha Gunfight thursday is upon us let sma
 sh it DSA Style \;)  starting 9 uk Working all the way through for those i
 n America 8 est time as norm earlier if youre feeling it \;)
URL:https://www.darksidealliance.com/node/260324
DTSTART;VALUE=DATE:20200625
LOCATION:Messys
END:VEVENT
END:VCALENDAR
