BEGIN:VCALENDAR
PRODID:-//vBulletin 6//EN
VERSION:2.0
CALSCALE:GREGORIAN
BEGIN:VEVENT
UID:c384bad3-8ef3-4eb9-90ce-f4967bb0644b
DTSTAMP:20260423T065142Z
SUMMARY:Its Gamenight Time
DESCRIPTION:Hey everyone please join me for a epic gamenight @9pm est time.
  Will be doing gunfight\, gun game\, one in the chamber\, bring back dodge
 ball. Please everyone come out and let's have a blast tonight.
URL:https://www.darksidealliance.com/node/260354
DTSTART;VALUE=DATE:20200627
END:VEVENT
END:VCALENDAR
