BEGIN:VCALENDAR
PRODID:-//vBulletin 6//EN
VERSION:2.0
CALSCALE:GREGORIAN
BEGIN:VEVENT
UID:ba6a7bc8-db1d-4ee8-a6cb-62b3acd22332
DTSTAMP:20260423T034952Z
SUMMARY:Still figuring things out.
DESCRIPTION:Alright so it's been a while.... But with life somewhat returni
 ng to normal it's time to pull our numbers together and gather some recrui
 ts. So this Friday the 3rd we will be doing a recruit night not but we are
 n't just looking for numbers we are looking for good quality team players.
  Not just anyone gets to run the DSA name/tag so wear that shit proudly an
 d enjoy the ride myself and DSA Royalty and the other CoD officers are abo
 ut to take you on.\n\n&#8203\;Date:7-3-20\nTime:10:00pm CST \nBring your A
  game and lets have some fun.
URL:https://www.darksidealliance.com/node/260371
DTSTART;VALUE=DATE:20200703
END:VEVENT
END:VCALENDAR
