BEGIN:VCALENDAR
PRODID:-//vBulletin 6//EN
VERSION:2.0
CALSCALE:GREGORIAN
BEGIN:VEVENT
UID:48153fd8-b10f-42ad-ad4b-30165989660a
DTSTAMP:20260423T035009Z
SUMMARY:Gunfight Thursday 8 est till late
DESCRIPTION:It's my favourite time of the week one more sleep and we are on
  for gunfight thursdays i hope you can all make it if not let us know and 
 we will catch tou another time \;) starting time is 8est time but i will b
 e on for the uk memebers from 9 uk time #DSA
URL:https://www.darksidealliance.com/node/260384
DTSTART;VALUE=DATE:20200702
LOCATION:Messys
END:VEVENT
END:VCALENDAR
